BEGIN:VCALENDAR
VERSION:2.0
PRODID:-//CHEZ SOIF - ECPv6.15.20//NONSGML v1.0//EN
CALSCALE:GREGORIAN
METHOD:PUBLISH
X-WR-CALNAME:CHEZ SOIF
X-ORIGINAL-URL:https://chezsoif.ch
X-WR-CALDESC:Veranstaltungen für CHEZ SOIF
REFRESH-INTERVAL;VALUE=DURATION:PT1H
X-Robots-Tag:noindex
X-PUBLISHED-TTL:PT1H
BEGIN:VTIMEZONE
TZID:Europe/Zurich
BEGIN:DAYLIGHT
TZOFFSETFROM:+0100
TZOFFSETTO:+0200
TZNAME:CEST
DTSTART:20250330T010000
END:DAYLIGHT
BEGIN:STANDARD
TZOFFSETFROM:+0200
TZOFFSETTO:+0100
TZNAME:CET
DTSTART:20251026T010000
END:STANDARD
BEGIN:DAYLIGHT
TZOFFSETFROM:+0100
TZOFFSETTO:+0200
TZNAME:CEST
DTSTART:20260329T010000
END:DAYLIGHT
BEGIN:STANDARD
TZOFFSETFROM:+0200
TZOFFSETTO:+0100
TZNAME:CET
DTSTART:20261025T010000
END:STANDARD
BEGIN:DAYLIGHT
TZOFFSETFROM:+0100
TZOFFSETTO:+0200
TZNAME:CEST
DTSTART:20270328T010000
END:DAYLIGHT
BEGIN:STANDARD
TZOFFSETFROM:+0200
TZOFFSETTO:+0100
TZNAME:CET
DTSTART:20271031T010000
END:STANDARD
END:VTIMEZONE
BEGIN:VEVENT
DTSTART;VALUE=DATE:20261105
DTEND;VALUE=DATE:20261106
DTSTAMP:20260422T113147
CREATED:20260327T185522Z
LAST-MODIFIED:20260327T185522Z
UID:953-1793836800-1793923199@chezsoif.ch
SUMMARY:Sister Young
DESCRIPTION:
URL:https://chezsoif.ch/event/sister-young/
END:VEVENT
BEGIN:VEVENT
DTSTART;VALUE=DATE:20261112
DTEND;VALUE=DATE:20261113
DTSTAMP:20260422T113147
CREATED:20260327T185435Z
LAST-MODIFIED:20260327T185435Z
UID:951-1794441600-1794527999@chezsoif.ch
SUMMARY:Tassilo Dellers
DESCRIPTION:
URL:https://chezsoif.ch/event/tassilo-dellers-2/
END:VEVENT
BEGIN:VEVENT
DTSTART;VALUE=DATE:20261119
DTEND;VALUE=DATE:20261120
DTSTAMP:20260422T113147
CREATED:20260327T185620Z
LAST-MODIFIED:20260327T185620Z
UID:955-1795046400-1795132799@chezsoif.ch
SUMMARY:Mo and the Band
DESCRIPTION:
URL:https://chezsoif.ch/event/mo-and-the-band/
END:VEVENT
BEGIN:VEVENT
DTSTART;VALUE=DATE:20261126
DTEND;VALUE=DATE:20261127
DTSTAMP:20260422T113147
CREATED:20260327T185726Z
LAST-MODIFIED:20260327T185726Z
UID:957-1795651200-1795737599@chezsoif.ch
SUMMARY:Second Opinion
DESCRIPTION:
URL:https://chezsoif.ch/event/second-opinion/
END:VEVENT
END:VCALENDAR