BEGIN:VCALENDAR
VERSION:2.0
PRODID:-//CHEZ SOIF - ECPv6.15.20//NONSGML v1.0//EN
CALSCALE:GREGORIAN
METHOD:PUBLISH
X-ORIGINAL-URL:https://chezsoif.ch
X-WR-CALDESC:Veranstaltungen für CHEZ SOIF
REFRESH-INTERVAL;VALUE=DURATION:PT1H
X-Robots-Tag:noindex
X-PUBLISHED-TTL:PT1H
BEGIN:VTIMEZONE
TZID:Europe/Zurich
BEGIN:DAYLIGHT
TZOFFSETFROM:+0100
TZOFFSETTO:+0200
TZNAME:CEST
DTSTART:20250330T010000
END:DAYLIGHT
BEGIN:STANDARD
TZOFFSETFROM:+0200
TZOFFSETTO:+0100
TZNAME:CET
DTSTART:20251026T010000
END:STANDARD
BEGIN:DAYLIGHT
TZOFFSETFROM:+0100
TZOFFSETTO:+0200
TZNAME:CEST
DTSTART:20260329T010000
END:DAYLIGHT
BEGIN:STANDARD
TZOFFSETFROM:+0200
TZOFFSETTO:+0100
TZNAME:CET
DTSTART:20261025T010000
END:STANDARD
BEGIN:DAYLIGHT
TZOFFSETFROM:+0100
TZOFFSETTO:+0200
TZNAME:CEST
DTSTART:20270328T010000
END:DAYLIGHT
BEGIN:STANDARD
TZOFFSETFROM:+0200
TZOFFSETTO:+0100
TZNAME:CET
DTSTART:20271031T010000
END:STANDARD
END:VTIMEZONE
BEGIN:VEVENT
DTSTART;VALUE=DATE:20260212
DTEND;VALUE=DATE:20260213
DTSTAMP:20260422T081221
CREATED:20260115T164844Z
LAST-MODIFIED:20260124T160839Z
UID:897-1770854400-1770940799@chezsoif.ch
SUMMARY:Lucky The Girl & Pink Pedrazzi
DESCRIPTION:
URL:https://chezsoif.ch/event/luxky-the-girl-pink-pedrazzi/
END:VEVENT
BEGIN:VEVENT
DTSTART;VALUE=DATE:20260226
DTEND;VALUE=DATE:20260227
DTSTAMP:20260422T081221
CREATED:20251207T183249Z
LAST-MODIFIED:20251207T183249Z
UID:885-1772064000-1772150399@chezsoif.ch
SUMMARY:*H3R* Frauen-Trio mit Charlotte Lang
DESCRIPTION:
URL:https://chezsoif.ch/event/h3r-frauen-trio-mit-charlotte-lang/
END:VEVENT
END:VCALENDAR