BEGIN:VCALENDAR
VERSION:2.0
PRODID:-//CHEZ SOIF - ECPv6.15.20//NONSGML v1.0//EN
CALSCALE:GREGORIAN
METHOD:PUBLISH
X-WR-CALNAME:CHEZ SOIF
X-ORIGINAL-URL:https://chezsoif.ch
X-WR-CALDESC:Veranstaltungen für CHEZ SOIF
REFRESH-INTERVAL;VALUE=DURATION:PT1H
X-Robots-Tag:noindex
X-PUBLISHED-TTL:PT1H
BEGIN:VTIMEZONE
TZID:Europe/Zurich
BEGIN:DAYLIGHT
TZOFFSETFROM:+0100
TZOFFSETTO:+0200
TZNAME:CEST
DTSTART:20250330T010000
END:DAYLIGHT
BEGIN:STANDARD
TZOFFSETFROM:+0200
TZOFFSETTO:+0100
TZNAME:CET
DTSTART:20251026T010000
END:STANDARD
BEGIN:DAYLIGHT
TZOFFSETFROM:+0100
TZOFFSETTO:+0200
TZNAME:CEST
DTSTART:20260329T010000
END:DAYLIGHT
BEGIN:STANDARD
TZOFFSETFROM:+0200
TZOFFSETTO:+0100
TZNAME:CET
DTSTART:20261025T010000
END:STANDARD
BEGIN:DAYLIGHT
TZOFFSETFROM:+0100
TZOFFSETTO:+0200
TZNAME:CEST
DTSTART:20270328T010000
END:DAYLIGHT
BEGIN:STANDARD
TZOFFSETFROM:+0200
TZOFFSETTO:+0100
TZNAME:CET
DTSTART:20271031T010000
END:STANDARD
END:VTIMEZONE
BEGIN:VEVENT
DTSTART;VALUE=DATE:20260108
DTEND;VALUE=DATE:20260109
DTSTAMP:20260422T080648
CREATED:20250707T172715Z
LAST-MODIFIED:20250707T172715Z
UID:831-1767830400-1767916799@chezsoif.ch
SUMMARY:Charlotte Lang Group
DESCRIPTION:
URL:https://chezsoif.ch/event/charlotte-lang-group/
END:VEVENT
BEGIN:VEVENT
DTSTART;VALUE=DATE:20260122
DTEND;VALUE=DATE:20260123
DTSTAMP:20260422T080648
CREATED:20250926T090428Z
LAST-MODIFIED:20250926T090428Z
UID:848-1769040000-1769126399@chezsoif.ch
SUMMARY:Andi Gisler
DESCRIPTION:
URL:https://chezsoif.ch/event/andi-gisler/
END:VEVENT
BEGIN:VEVENT
DTSTART;VALUE=DATE:20260129
DTEND;VALUE=DATE:20260130
DTSTAMP:20260422T080648
CREATED:20260124T162134Z
LAST-MODIFIED:20260124T162134Z
UID:919-1769644800-1769731199@chezsoif.ch
SUMMARY:Roger Monnerat HAUS IM JURA
DESCRIPTION:
URL:https://chezsoif.ch/event/roger-monnerat-haus-im-jura/
END:VEVENT
END:VCALENDAR