BEGIN:VCALENDAR
VERSION:2.0
PRODID:-//CHEZ SOIF - ECPv6.15.20//NONSGML v1.0//EN
CALSCALE:GREGORIAN
METHOD:PUBLISH
X-ORIGINAL-URL:https://chezsoif.ch
X-WR-CALDESC:Veranstaltungen für CHEZ SOIF
REFRESH-INTERVAL;VALUE=DURATION:PT1H
X-Robots-Tag:noindex
X-PUBLISHED-TTL:PT1H
BEGIN:VTIMEZONE
TZID:Europe/Zurich
BEGIN:DAYLIGHT
TZOFFSETFROM:+0100
TZOFFSETTO:+0200
TZNAME:CEST
DTSTART:20230326T010000
END:DAYLIGHT
BEGIN:STANDARD
TZOFFSETFROM:+0200
TZOFFSETTO:+0100
TZNAME:CET
DTSTART:20231029T010000
END:STANDARD
BEGIN:DAYLIGHT
TZOFFSETFROM:+0100
TZOFFSETTO:+0200
TZNAME:CEST
DTSTART:20240331T010000
END:DAYLIGHT
BEGIN:STANDARD
TZOFFSETFROM:+0200
TZOFFSETTO:+0100
TZNAME:CET
DTSTART:20241027T010000
END:STANDARD
BEGIN:DAYLIGHT
TZOFFSETFROM:+0100
TZOFFSETTO:+0200
TZNAME:CEST
DTSTART:20250330T010000
END:DAYLIGHT
BEGIN:STANDARD
TZOFFSETFROM:+0200
TZOFFSETTO:+0100
TZNAME:CET
DTSTART:20251026T010000
END:STANDARD
END:VTIMEZONE
BEGIN:VEVENT
DTSTART;VALUE=DATE:20241107
DTEND;VALUE=DATE:20241108
DTSTAMP:20260420T103541
CREATED:20240524T182115Z
LAST-MODIFIED:20240527T175444Z
UID:636-1730937600-1731023999@chezsoif.ch
SUMMARY:Drayland Klezmer
DESCRIPTION:
URL:https://chezsoif.ch/event/drayland-klezmer/
END:VEVENT
BEGIN:VEVENT
DTSTART;VALUE=DATE:20241114
DTEND;VALUE=DATE:20241115
DTSTAMP:20260420T103541
CREATED:20240527T175746Z
LAST-MODIFIED:20240527T175746Z
UID:643-1731542400-1731628799@chezsoif.ch
SUMMARY:Cmaj4
DESCRIPTION:
URL:https://chezsoif.ch/event/cmaj4/
END:VEVENT
BEGIN:VEVENT
DTSTART;VALUE=DATE:20241121
DTEND;VALUE=DATE:20241122
DTSTAMP:20260420T103541
CREATED:20240402T102103Z
LAST-MODIFIED:20240402T102103Z
UID:616-1732147200-1732233599@chezsoif.ch
SUMMARY:3 Bands tauschen Songs aus
DESCRIPTION:
URL:https://chezsoif.ch/event/3-bands-tauschen-songs-aus/
END:VEVENT
BEGIN:VEVENT
DTSTART;VALUE=DATE:20241128
DTEND;VALUE=DATE:20241129
DTSTAMP:20260420T103541
CREATED:20240830T092802Z
LAST-MODIFIED:20240830T092802Z
UID:663-1732752000-1732838399@chezsoif.ch
SUMMARY:Latinband
DESCRIPTION:
URL:https://chezsoif.ch/event/latinband/
END:VEVENT
END:VCALENDAR