BEGIN:VCALENDAR
VERSION:2.0
PRODID:-//CHEZ SOIF - ECPv6.15.20//NONSGML v1.0//EN
CALSCALE:GREGORIAN
METHOD:PUBLISH
X-ORIGINAL-URL:https://chezsoif.ch
X-WR-CALDESC:Veranstaltungen für CHEZ SOIF
REFRESH-INTERVAL;VALUE=DURATION:PT1H
X-Robots-Tag:noindex
X-PUBLISHED-TTL:PT1H
BEGIN:VTIMEZONE
TZID:Europe/Zurich
BEGIN:DAYLIGHT
TZOFFSETFROM:+0100
TZOFFSETTO:+0200
TZNAME:CEST
DTSTART:20220327T010000
END:DAYLIGHT
BEGIN:STANDARD
TZOFFSETFROM:+0200
TZOFFSETTO:+0100
TZNAME:CET
DTSTART:20221030T010000
END:STANDARD
BEGIN:DAYLIGHT
TZOFFSETFROM:+0100
TZOFFSETTO:+0200
TZNAME:CEST
DTSTART:20230326T010000
END:DAYLIGHT
BEGIN:STANDARD
TZOFFSETFROM:+0200
TZOFFSETTO:+0100
TZNAME:CET
DTSTART:20231029T010000
END:STANDARD
BEGIN:DAYLIGHT
TZOFFSETFROM:+0100
TZOFFSETTO:+0200
TZNAME:CEST
DTSTART:20240331T010000
END:DAYLIGHT
BEGIN:STANDARD
TZOFFSETFROM:+0200
TZOFFSETTO:+0100
TZNAME:CET
DTSTART:20241027T010000
END:STANDARD
END:VTIMEZONE
BEGIN:VEVENT
DTSTART;VALUE=DATE:20230907
DTEND;VALUE=DATE:20230908
DTSTAMP:20260421T210608
CREATED:20230405T161537Z
LAST-MODIFIED:20230405T161537Z
UID:423-1694044800-1694131199@chezsoif.ch
SUMMARY:Die Arleshäusler
DESCRIPTION:
URL:https://chezsoif.ch/event/die-arleshaeusler/
END:VEVENT
BEGIN:VEVENT
DTSTART;VALUE=DATE:20230914
DTEND;VALUE=DATE:20230915
DTSTAMP:20260421T210608
CREATED:20230405T161718Z
LAST-MODIFIED:20230405T161718Z
UID:425-1694649600-1694735999@chezsoif.ch
SUMMARY:Andi Gisler & Rebecca - Bluebird
DESCRIPTION:
URL:https://chezsoif.ch/event/andi-gisler-rebecca-bluebird/
END:VEVENT
BEGIN:VEVENT
DTSTART;VALUE=DATE:20230921
DTEND;VALUE=DATE:20230922
DTSTAMP:20260421T210608
CREATED:20230405T161814Z
LAST-MODIFIED:20230925T145503Z
UID:427-1695254400-1695340799@chezsoif.ch
SUMMARY:BassPartout
DESCRIPTION:
URL:https://chezsoif.ch/event/basspartout-2/
ATTACH;FMTTYPE=image/png:https://chezsoif.ch/wp-content/uploads/2023/04/Bildschirmfoto-2023-09-15-um-11.39.06.png
END:VEVENT
BEGIN:VEVENT
DTSTART;VALUE=DATE:20230928
DTEND;VALUE=DATE:20230929
DTSTAMP:20260421T210608
CREATED:20230405T163443Z
LAST-MODIFIED:20230405T163443Z
UID:429-1695859200-1695945599@chezsoif.ch
SUMMARY:PiaHans@freemusic
DESCRIPTION:
URL:https://chezsoif.ch/event/piahansfreemusic/
END:VEVENT
END:VCALENDAR